BEGIN:VCALENDAR
VERSION:2.0
PRODID:-//EENE - ECPv5.14.1//NONSGML v1.0//EN
CALSCALE:GREGORIAN
METHOD:PUBLISH
X-WR-CALNAME:EENE
X-ORIGINAL-URL:https://www.eene.gr
X-WR-CALDESC:EENE - Εκδηλώσεις
BEGIN:VTIMEZONE
TZID:Europe/Moscow
BEGIN:STANDARD
TZOFFSETFROM:+0300
TZOFFSETTO:+0300
TZNAME:MSK
DTSTART:20230101T000000
END:STANDARD
END:VTIMEZONE
BEGIN:VEVENT
DTSTART;TZID=Europe/Moscow:20230612T080000
DTEND;TZID=Europe/Moscow:20230612T170000
DTSTAMP:20260423T120459
CREATED:20230612T165522Z
LAST-MODIFIED:20230612T165626Z
UID:10203-1686556800-1686589200@www.eene.gr
SUMMARY:| ΠΡΟΣΚΛΗΣΗ ΠΡΟΣ ΤΑ ΜΕΛΗ E.EN.E. | Τετάρτη 14 Ιουνίου @ I FRATI | Κλειστή συζήτηση
DESCRIPTION:
URL:https://www.eene.gr/event/prosklisi-pros-ta-meli-e-en-e-tetarti-14-iouniou-i-frati-kleisti-syzitisi/
CATEGORIES:Κοινωνία
END:VEVENT
END:VCALENDAR