BEGIN:VCALENDAR
VERSION:2.0
PRODID:-//EENE - ECPv5.14.1//NONSGML v1.0//EN
CALSCALE:GREGORIAN
METHOD:PUBLISH
X-WR-CALNAME:EENE
X-ORIGINAL-URL:https://www.eene.gr
X-WR-CALDESC:EENE - Εκδηλώσεις
BEGIN:VTIMEZONE
TZID:Europe/Helsinki
BEGIN:DAYLIGHT
TZOFFSETFROM:+0200
TZOFFSETTO:+0300
TZNAME:EEST
DTSTART:20260329T010000
END:DAYLIGHT
BEGIN:STANDARD
TZOFFSETFROM:+0300
TZOFFSETTO:+0200
TZNAME:EET
DTSTART:20261025T010000
END:STANDARD
END:VTIMEZONE
BEGIN:VEVENT
DTSTART;TZID=Europe/Helsinki:20260330T141500
DTEND;TZID=Europe/Helsinki:20260330T160000
DTSTAMP:20260425T182444
CREATED:20260327T143513Z
LAST-MODIFIED:20260327T143513Z
UID:15215-1774880100-1774886400@www.eene.gr
SUMMARY:ΕΕΝΕ| Γεύµα Εργασίας µε προσκεκληµένους οµιλητές τους κ. Andreas Kindl\, Πρέσβης Γερµανίας & κ. Wojciech Ponikiewski\, Πρέσβης Πολωνίας
DESCRIPTION:
URL:https://www.eene.gr/event/eene-gev%c2%b5a-ergasias-%c2%b5e-proskekli%c2%b5enous-o%c2%b5ilites-tous-k-andreas-kindl-presvis-ger%c2%b5anias-k-wojciech-ponikiewski-presvis-polonias/
CATEGORIES:Κοινωνία
END:VEVENT
BEGIN:VEVENT
DTSTART;TZID=Europe/Helsinki:20260402T143000
DTEND;TZID=Europe/Helsinki:20260402T160000
DTSTAMP:20260425T182444
CREATED:20260318T132244Z
LAST-MODIFIED:20260323T161921Z
UID:15104-1775140200-1775145600@www.eene.gr
SUMMARY:EENE| Γεύμα Εργασίας με προσκεκλημένο ομιλητή τον Αναπληρωτή Υπουργό Μεταφορών κ. Κωνσταντίνο Κυρανάκη
DESCRIPTION:
URL:https://www.eene.gr/event/eene-gevma-ergasias-me-proskeklimeno-omiliti-ton-anapliroti-ypourgo-metaforon-k-konstantino-kyranaki/
CATEGORIES:Κοινωνία
END:VEVENT
END:VCALENDAR